BEGIN:VCALENDAR
VERSION:2.0
PRODID:-//El Reventon Posadas 2026 - ECPv6.15.18//NONSGML v1.0//EN
CALSCALE:GREGORIAN
METHOD:PUBLISH
X-ORIGINAL-URL:https://elreventonposadas.com.ar
X-WR-CALDESC:Eventos para El Reventon Posadas 2026
REFRESH-INTERVAL;VALUE=DURATION:PT1H
X-Robots-Tag:noindex
X-PUBLISHED-TTL:PT1H
BEGIN:VTIMEZONE
TZID:UTC
BEGIN:STANDARD
TZOFFSETFROM:+0000
TZOFFSETTO:+0000
TZNAME:UTC
DTSTART:20240101T000000
END:STANDARD
END:VTIMEZONE
BEGIN:VEVENT
DTSTART;VALUE=DATE:20260409
DTEND;VALUE=DATE:20260413
DTSTAMP:20260418T093718
CREATED:20260410T000743Z
LAST-MODIFIED:20260410T000807Z
UID:3903-1775692800-1776038399@elreventonposadas.com.ar
SUMMARY:feria gastronomica y cervecera
DESCRIPTION:
URL:https://elreventonposadas.com.ar/event/feria-gastronomica-y-cervecera/
ATTACH;FMTTYPE=image/jpeg:https://elreventonposadas.com.ar/wp-content/uploads/2026/04/FERIA-GASTRONOMICA-PROMO-HISTORIA-1-scaled.jpg
END:VEVENT
BEGIN:VEVENT
DTSTART;VALUE=DATE:20260409
DTEND;VALUE=DATE:20260413
DTSTAMP:20260418T093718
CREATED:20260410T000300Z
LAST-MODIFIED:20260410T000300Z
UID:3900-1775692800-1776038399@elreventonposadas.com.ar
SUMMARY:Gastronomia local y cervecera Artesanal
DESCRIPTION:
URL:https://elreventonposadas.com.ar/event/gastronomia-local-y-cervecera-artesanal/
ATTACH;FMTTYPE=image/jpeg:https://elreventonposadas.com.ar/wp-content/uploads/2026/04/FERIA-GASTRONOMICA-PROMO-HISTORIA-2-02-scaled.jpg
END:VEVENT
BEGIN:VEVENT
DTSTART;VALUE=DATE:20260409
DTEND;VALUE=DATE:20260413
DTSTAMP:20260418T093718
CREATED:20260409T235720Z
LAST-MODIFIED:20260409T235720Z
UID:3897-1775692800-1776038399@elreventonposadas.com.ar
SUMMARY:Maquillaje Artistico
DESCRIPTION:
URL:https://elreventonposadas.com.ar/event/maquillaje-artistico/
ATTACH;FMTTYPE=image/jpeg:https://elreventonposadas.com.ar/wp-content/uploads/2026/04/MAQUILLADORA-HISTORIA-03-scaled.jpg
END:VEVENT
BEGIN:VEVENT
DTSTART;VALUE=DATE:20260409
DTEND;VALUE=DATE:20260413
DTSTAMP:20260418T093718
CREATED:20260409T235527Z
LAST-MODIFIED:20260409T235602Z
UID:3894-1775692800-1776038399@elreventonposadas.com.ar
SUMMARY:Ruleta y Espejo Magico
DESCRIPTION:
URL:https://elreventonposadas.com.ar/event/ruleta-y-espejo-magico/
LOCATION:Plaza san martin\, Posadas\, 3300\, Argentina
ATTACH;FMTTYPE=image/jpeg:https://elreventonposadas.com.ar/wp-content/uploads/2026/04/RULETA-Y-ESPEJO-HISTORIA-scaled.jpg
END:VEVENT
BEGIN:VEVENT
DTSTART;VALUE=DATE:20260409
DTEND;VALUE=DATE:20260413
DTSTAMP:20260418T093718
CREATED:20260409T235025Z
LAST-MODIFIED:20260409T235123Z
UID:3891-1775692800-1776038399@elreventonposadas.com.ar
SUMMARY:Ruleta y Maquillaje artístico
DESCRIPTION:
URL:https://elreventonposadas.com.ar/event/ruleta-y-maquillaje-artistico/
LOCATION:Plaza san martin\, Posadas\, 3300\, Argentina
ATTACH;FMTTYPE=image/jpeg:https://elreventonposadas.com.ar/wp-content/uploads/2026/04/RULETA-Y-MAQUILLADORA-HISTORIA-02-scaled.jpg
END:VEVENT
BEGIN:VEVENT
DTSTART;VALUE=DATE:20250406
DTEND;VALUE=DATE:20250407
DTSTAMP:20260418T093718
CREATED:20250331T002647Z
LAST-MODIFIED:20250331T002724Z
UID:2929-1743897600-1743983999@elreventonposadas.com.ar
SUMMARY:¡Gran cierre de El Reventón 2025!
DESCRIPTION:Este domingo 6 de abril\, viví el último día de una semana llena de alegría\, música y comunidad. \nMúsica en vivo: \n\n\nDJ Juanjo Duarte\, Milena Martínez y Mauri Cabral \n\n\n20:30 hs – Bacana en el escenario \n\n\nAdemás:✨ Espejo mágico para capturar tus mejores momentos¡Y una despedida a puro color! \nOrganiza: Cámara de Comercio e Industria de PosadasAcompañan: Gobierno de Misiones\, IPLyC SE y Posadas Siempre Linda \nGracias por ser parte de esta gran fiesta del comercio local. ¡Nos vemos en la próxima edición! \n#ElReventón2025 #CierreDelEvento #PosadasSiempreLinda #CCIP #DomingoDeFiesta #MúsicaEnVivo #GraciasPosadas
URL:https://elreventonposadas.com.ar/event/gran-cierre-de-el-reventon-2025/
CATEGORIES:Domingo
ATTACH;FMTTYPE=image/png:https://elreventonposadas.com.ar/wp-content/uploads/2025/03/Domingo-el-reventon.png
END:VEVENT
BEGIN:VEVENT
DTSTART;VALUE=DATE:20250405
DTEND;VALUE=DATE:20250406
DTSTAMP:20260418T093718
CREATED:20250331T001908Z
LAST-MODIFIED:20250331T001908Z
UID:2909-1743811200-1743897599@elreventonposadas.com.ar
SUMMARY:¡Llega EL REVENTÓN 2025 con todo!
DESCRIPTION:Una jornada llena de música\, diversión y actividades para toda la familia\, organizada por la Cámara de Comercio e Industria de Posadas. \n Sábado 5 de abril Posadas \n Música en vivo: \n\n\nDJ Juanjo Duarte\, Milena Martínez y Mauri Cabral \n\n\n20:30 hs – Lo Que Venga \n\n\n22:00 hs – La Banda de Los Foras \n\n\n✨ Además: Espejo mágico Maquillaje artístico para niños ¡Y muchas sorpresas más! \n ¡No te lo pierdas!Un evento pensado para disfrutar en familia\, apoyar el comercio local y vivir la ciudad con alegría. \n#ElReventón2025 #PosadasSiempreLinda #CCIP #FiestaEnLaCiudad #MúsicaEnVivo #DiversiónFamiliar #ComercioLocal
URL:https://elreventonposadas.com.ar/event/llega-el-reventon-2025-con-todo/
CATEGORIES:Sabado
ATTACH;FMTTYPE=image/png:https://elreventonposadas.com.ar/wp-content/uploads/2025/03/Sabado-el-reventon.png
END:VEVENT
BEGIN:VEVENT
DTSTART;VALUE=DATE:20250404
DTEND;VALUE=DATE:20250405
DTSTAMP:20260418T093718
CREATED:20250331T002211Z
LAST-MODIFIED:20250331T002716Z
UID:2916-1743724800-1743811199@elreventonposadas.com.ar
SUMMARY:¡El viernes explota El Reventón 2025!
DESCRIPTION:Sumate este 4 de abril a una noche imperdible con shows en vivo y propuestas para toda la familia. \nMúsica en vivo: \n\n\nDJ Juanjo Duarte\, Milena Martínez y Mauri Cabral \n\n\n20:30 hs – Remember Show \n\n\n22:00 hs – Los Abuelos de la Nada \n\n\n✨ Además:Espejo mágicoMaquillaje artístico para niños¡Y más sorpresas! \nOrganiza: Cámara de Comercio e Industria de PosadasAcompañan: Gobierno de Misiones\, IPLyC SE y Posadas Siempre Linda \n¡Viví la ciudad\, disfrutá del comercio local y bailá al ritmo del Reventón! \n#ElReventón2025 #ViernesDeFiesta #PosadasSiempreLinda #CCIP #ShowsEnVivo #ComercioLocal #DiversiónFamiliar
URL:https://elreventonposadas.com.ar/event/el-viernes-explota-el-reventon-2025/
CATEGORIES:viernes
ATTACH;FMTTYPE=image/png:https://elreventonposadas.com.ar/wp-content/uploads/2025/03/Viernes-el-reventon.png
END:VEVENT
BEGIN:VEVENT
DTSTART;VALUE=DATE:20250403
DTEND;VALUE=DATE:20250404
DTSTAMP:20260418T093718
CREATED:20250331T002024Z
LAST-MODIFIED:20250331T002024Z
UID:2913-1743638400-1743724799@elreventonposadas.com.ar
SUMMARY:¡El Reventón 2025 arranca con todo!
DESCRIPTION:Te esperamos este jueves 3 de abril para vivir una jornada llena de ritmo\, alegría y actividades para grandes y chicos. \n Música en vivo: \n\n\nDJ Juanjo Duarte\, Milena Martínez y Mauri Cabral \n\n\n20:30 hs – TUNAMI \n\n\n✨ Además: Espejo mágico Maquillaje artístico para niños ¡Sorpresas durante todo el evento! \nOrganiza: Cámara de Comercio e Industria de Posadas Acompañan: Gobierno de Misiones\, IPLyC SE y Posadas Siempre Linda \n¡Sumate a esta gran fiesta de la ciudad y disfrutá de lo mejor del comercio local con música y diversión! \n#ElReventón2025 #PosadasSiempreLinda #CCIP #MúsicaEnVivo #DiversiónParaTodos #FiestaEnLaCiudad #TunamiEnVivo
URL:https://elreventonposadas.com.ar/event/el-reventon-2025-arranca-con-todo/
CATEGORIES:Jueves
ATTACH;FMTTYPE=image/png:https://elreventonposadas.com.ar/wp-content/uploads/2025/03/PP-34.png
END:VEVENT
END:VCALENDAR